BEGIN:VCALENDAR
VERSION:2.0
PRODID:-//Misión Venezolana de Portuguesa - ECPv6.5.1.5//NONSGML v1.0//EN
CALSCALE:GREGORIAN
METHOD:PUBLISH
X-ORIGINAL-URL:https://misiondeportuguesa.com
X-WR-CALDESC:Eventos para Misión Venezolana de Portuguesa
REFRESH-INTERVAL;VALUE=DURATION:PT1H
X-Robots-Tag:noindex
X-PUBLISHED-TTL:PT1H
BEGIN:VTIMEZONE
TZID:America/Halifax
BEGIN:DAYLIGHT
TZOFFSETFROM:-0400
TZOFFSETTO:-0300
TZNAME:ADT
DTSTART:20240310T060000
END:DAYLIGHT
BEGIN:STANDARD
TZOFFSETFROM:-0300
TZOFFSETTO:-0400
TZNAME:AST
DTSTART:20241103T050000
END:STANDARD
END:VTIMEZONE
BEGIN:VEVENT
DTSTART;VALUE=DATE:20241105
DTEND;VALUE=DATE:20241106
DTSTAMP:20260421T084718
CREATED:20240706T234657Z
LAST-MODIFIED:20240706T234657Z
UID:995-1730764800-1730851199@misiondeportuguesa.com
SUMMARY:Junta Colegio Andrés Bello
DESCRIPTION:
URL:https://misiondeportuguesa.com/event/junta-colegio-andres-bello-2/
CATEGORIES:MVP
END:VEVENT
BEGIN:VEVENT
DTSTART;VALUE=DATE:20241106
DTEND;VALUE=DATE:20241107
DTSTAMP:20260421T084718
CREATED:20240706T234658Z
LAST-MODIFIED:20240706T234658Z
UID:996-1730851200-1730937599@misiondeportuguesa.com
SUMMARY:Junta Colegio J.N.Andrews
DESCRIPTION:
URL:https://misiondeportuguesa.com/event/junta-colegio-j-n-andrews-2/
CATEGORIES:MVP
END:VEVENT
BEGIN:VEVENT
DTSTART;VALUE=DATE:20241107
DTEND;VALUE=DATE:20241110
DTSTAMP:20260421T084718
CREATED:20240706T234659Z
LAST-MODIFIED:20240706T234659Z
UID:997-1730937600-1731196799@misiondeportuguesa.com
SUMMARY:Retiro de parejas
DESCRIPTION:
URL:https://misiondeportuguesa.com/event/retiro-de-parejas/
CATEGORIES:MVP
END:VEVENT
BEGIN:VEVENT
DTSTART;VALUE=DATE:20241112
DTEND;VALUE=DATE:20241113
DTSTAMP:20260421T084718
CREATED:20240706T234700Z
LAST-MODIFIED:20240706T234700Z
UID:999-1731369600-1731455999@misiondeportuguesa.com
SUMMARY:Junta Colegio Cecilio Acosta
DESCRIPTION:
URL:https://misiondeportuguesa.com/event/junta-colegio-cecilio-acosta-2/
CATEGORIES:MVP
END:VEVENT
BEGIN:VEVENT
DTSTART;VALUE=DATE:20241123
DTEND;VALUE=DATE:20241124
DTSTAMP:20260421T084718
CREATED:20240706T234716Z
LAST-MODIFIED:20240706T234716Z
UID:1002-1732320000-1732406399@misiondeportuguesa.com
SUMMARY:Certificación Libro la Temperancia
DESCRIPTION:
URL:https://misiondeportuguesa.com/event/certificacion-libro-la-temperancia/
CATEGORIES:MVP
END:VEVENT
BEGIN:VEVENT
DTSTART;VALUE=DATE:20241123
DTEND;VALUE=DATE:20241125
DTSTAMP:20260421T084718
CREATED:20240706T234718Z
LAST-MODIFIED:20240706T234718Z
UID:1004-1732320000-1732492799@misiondeportuguesa.com
SUMMARY:Capacitación de Tesoreros
DESCRIPTION:
URL:https://misiondeportuguesa.com/event/capacitacion-de-tesoreros-3/
CATEGORIES:MVP
END:VEVENT
END:VCALENDAR