BEGIN:VCALENDAR
VERSION:2.0
PRODID:-//Misión Venezolana de Portuguesa - ECPv6.5.1.5//NONSGML v1.0//EN
CALSCALE:GREGORIAN
METHOD:PUBLISH
X-WR-CALNAME:Misión Venezolana de Portuguesa
X-ORIGINAL-URL:https://misiondeportuguesa.com
X-WR-CALDESC:Eventos para Misión Venezolana de Portuguesa
REFRESH-INTERVAL;VALUE=DURATION:PT1H
X-Robots-Tag:noindex
X-PUBLISHED-TTL:PT1H
BEGIN:VTIMEZONE
TZID:America/Halifax
BEGIN:DAYLIGHT
TZOFFSETFROM:-0400
TZOFFSETTO:-0300
TZNAME:ADT
DTSTART:20240310T060000
END:DAYLIGHT
BEGIN:STANDARD
TZOFFSETFROM:-0300
TZOFFSETTO:-0400
TZNAME:AST
DTSTART:20241103T050000
END:STANDARD
END:VTIMEZONE
BEGIN:VEVENT
DTSTART;VALUE=DATE:20241005
DTEND;VALUE=DATE:20241006
DTSTAMP:20260421T101804
CREATED:20240706T234145Z
LAST-MODIFIED:20240706T234145Z
UID:977-1728086400-1728172799@misiondeportuguesa.com
SUMMARY:Cierre rescatando su valor
DESCRIPTION:
URL:https://misiondeportuguesa.com/event/cierre-rescatando-su-valor/
CATEGORIES:MVP
END:VEVENT
BEGIN:VEVENT
DTSTART;VALUE=DATE:20241006
DTEND;VALUE=DATE:20241007
DTSTAMP:20260421T101804
CREATED:20240706T234146Z
LAST-MODIFIED:20240706T234146Z
UID:978-1728172800-1728259199@misiondeportuguesa.com
SUMMARY:Concilio de Mayordomía
DESCRIPTION:
URL:https://misiondeportuguesa.com/event/concilio-de-mayordomia/
CATEGORIES:MVP
END:VEVENT
BEGIN:VEVENT
DTSTART;VALUE=DATE:20241013
DTEND;VALUE=DATE:20241014
DTSTAMP:20260421T101804
CREATED:20240706T234240Z
LAST-MODIFIED:20240706T234240Z
UID:980-1728777600-1728863999@misiondeportuguesa.com
SUMMARY:Concilio de Mayordomía
DESCRIPTION:
URL:https://misiondeportuguesa.com/event/concilio-de-mayordomia-2/
CATEGORIES:MVP
END:VEVENT
BEGIN:VEVENT
DTSTART;VALUE=DATE:20241013
DTEND;VALUE=DATE:20241014
DTSTAMP:20260421T101804
CREATED:20240706T234241Z
LAST-MODIFIED:20240706T234241Z
UID:982-1728777600-1728863999@misiondeportuguesa.com
SUMMARY:Cierre rescatando su valor
DESCRIPTION:
URL:https://misiondeportuguesa.com/event/cierre-rescatando-su-valor-2/
CATEGORIES:MVP
END:VEVENT
BEGIN:VEVENT
DTSTART;VALUE=DATE:20241020
DTEND;VALUE=DATE:20241021
DTSTAMP:20260421T101804
CREATED:20240706T234441Z
LAST-MODIFIED:20240706T234441Z
UID:986-1729382400-1729468799@misiondeportuguesa.com
SUMMARY:Capacitación de Tesoreros
DESCRIPTION:
URL:https://misiondeportuguesa.com/event/capacitacion-de-tesoreros-2/
CATEGORIES:MVP
END:VEVENT
BEGIN:VEVENT
DTSTART;VALUE=DATE:20241023
DTEND;VALUE=DATE:20241024
DTSTAMP:20260421T101804
CREATED:20240706T234443Z
LAST-MODIFIED:20240706T234443Z
UID:988-1729641600-1729727999@misiondeportuguesa.com
SUMMARY:Certificación de Pastores y esposas DIA Secretaría Ministerial
DESCRIPTION:
URL:https://misiondeportuguesa.com/event/certificacion-de-pastores-y-esposas-dia-secretaria-ministerial/
CATEGORIES:MVP
END:VEVENT
BEGIN:VEVENT
DTSTART;VALUE=DATE:20241027
DTEND;VALUE=DATE:20241028
DTSTAMP:20260421T101804
CREATED:20240706T234456Z
LAST-MODIFIED:20240706T234456Z
UID:990-1729987200-1730073599@misiondeportuguesa.com
SUMMARY:Concilio de Mayordomía
DESCRIPTION:
URL:https://misiondeportuguesa.com/event/concilio-de-mayordomia-3/
CATEGORIES:MVP
END:VEVENT
END:VCALENDAR