BEGIN:VCALENDAR
VERSION:2.0
PRODID:-//Misión Venezolana de Portuguesa - ECPv6.5.1.5//NONSGML v1.0//EN
CALSCALE:GREGORIAN
METHOD:PUBLISH
X-ORIGINAL-URL:https://misiondeportuguesa.com
X-WR-CALDESC:Eventos para Misión Venezolana de Portuguesa
REFRESH-INTERVAL;VALUE=DURATION:PT1H
X-Robots-Tag:noindex
X-PUBLISHED-TTL:PT1H
BEGIN:VTIMEZONE
TZID:America/Halifax
BEGIN:DAYLIGHT
TZOFFSETFROM:-0400
TZOFFSETTO:-0300
TZNAME:ADT
DTSTART:20240310T060000
END:DAYLIGHT
BEGIN:STANDARD
TZOFFSETFROM:-0300
TZOFFSETTO:-0400
TZNAME:AST
DTSTART:20241103T050000
END:STANDARD
END:VTIMEZONE
BEGIN:VEVENT
DTSTART;VALUE=DATE:20241102
DTEND;VALUE=DATE:20241103
DTSTAMP:20260419T150925
CREATED:20240706T234459Z
LAST-MODIFIED:20240706T234459Z
UID:993-1730505600-1730591999@misiondeportuguesa.com
SUMMARY:Cierre de Olimpiadas de Esperanza
DESCRIPTION:
URL:https://misiondeportuguesa.com/event/cierre-de-olimpiadas-de-esperanza/
CATEGORIES:UVOC
END:VEVENT
BEGIN:VEVENT
DTSTART;VALUE=DATE:20241103
DTEND;VALUE=DATE:20241104
DTSTAMP:20260419T150925
CREATED:20240706T234459Z
LAST-MODIFIED:20240706T234459Z
UID:994-1730592000-1730678399@misiondeportuguesa.com
SUMMARY:Cierre de Olimpiadas de Esperanza
DESCRIPTION:
URL:https://misiondeportuguesa.com/event/cierre-de-olimpiadas-de-esperanza-2/
CATEGORIES:UVOC
END:VEVENT
BEGIN:VEVENT
DTSTART;VALUE=DATE:20241109
DTEND;VALUE=DATE:20241117
DTSTAMP:20260419T150925
CREATED:20240706T234700Z
LAST-MODIFIED:20240706T234700Z
UID:998-1731110400-1731801599@misiondeportuguesa.com
SUMMARY:Semana de Oración para jovenes
DESCRIPTION:
URL:https://misiondeportuguesa.com/event/semana-de-oracion-para-jovenes/
CATEGORIES:UVOC
END:VEVENT
BEGIN:VEVENT
DTSTART;VALUE=DATE:20241117
DTEND;VALUE=DATE:20241118
DTSTAMP:20260419T150925
CREATED:20240706T234715Z
LAST-MODIFIED:20240706T234715Z
UID:1000-1731801600-1731887999@misiondeportuguesa.com
SUMMARY:Cierre de Olimpiadas de Esperanza
DESCRIPTION:
URL:https://misiondeportuguesa.com/event/cierre-de-olimpiadas-de-esperanza-3/
CATEGORIES:UVOC
END:VEVENT
BEGIN:VEVENT
DTSTART;VALUE=DATE:20241123
DTEND;VALUE=DATE:20241124
DTSTAMP:20260419T150925
CREATED:20240706T234716Z
LAST-MODIFIED:20240706T234716Z
UID:1001-1732320000-1732406399@misiondeportuguesa.com
SUMMARY:Día de concientización del VIH
DESCRIPTION:
URL:https://misiondeportuguesa.com/event/dia-de-concientizacion-del-vih/
CATEGORIES:UVOC
END:VEVENT
BEGIN:VEVENT
DTSTART;VALUE=DATE:20241123
DTEND;VALUE=DATE:20241124
DTSTAMP:20260419T150925
CREATED:20240706T234717Z
LAST-MODIFIED:20240706T234717Z
UID:1003-1732320000-1732406399@misiondeportuguesa.com
SUMMARY:Día especial de Gratitud y reconoc de personal de salud
DESCRIPTION:
URL:https://misiondeportuguesa.com/event/dia-especial-de-gratitud-y-reconoc-de-personal-de-salud/
CATEGORIES:UVOC
END:VEVENT
BEGIN:VEVENT
DTSTART;VALUE=DATE:20241130
DTEND;VALUE=DATE:20241208
DTSTAMP:20260419T150925
CREATED:20240706T234730Z
LAST-MODIFIED:20240706T234730Z
UID:1005-1732924800-1733615999@misiondeportuguesa.com
SUMMARY:Dic Semana de Gratitud y acción de gracia
DESCRIPTION:
URL:https://misiondeportuguesa.com/event/dic-semana-de-gratitud-y-accion-de-gracia/
CATEGORIES:UVOC
END:VEVENT
END:VCALENDAR